BEGIN:VCALENDAR
VERSION:2.0
PRODID:-//Tucson Waldorf School - ECPv6.15.20//NONSGML v1.0//EN
CALSCALE:GREGORIAN
METHOD:PUBLISH
X-ORIGINAL-URL:https://tucsonwaldorf.org
X-WR-CALDESC:Events for Tucson Waldorf School
REFRESH-INTERVAL;VALUE=DURATION:PT1H
X-Robots-Tag:noindex
X-PUBLISHED-TTL:PT1H
BEGIN:VTIMEZONE
TZID:America/Phoenix
BEGIN:STANDARD
TZOFFSETFROM:-0700
TZOFFSETTO:-0700
TZNAME:MST
DTSTART:20230101T000000
END:STANDARD
END:VTIMEZONE
BEGIN:VEVENT
DTSTART;TZID=America/Phoenix:20241207T090000
DTEND;TZID=America/Phoenix:20241207T100000
DTSTAMP:20260419T071916
CREATED:20241106T171047Z
LAST-MODIFIED:20241106T171429Z
UID:6665-1733562000-1733565600@tucsonwaldorf.org
SUMMARY:Playgarden Puppet Show & Open House
DESCRIPTION:Playgarden Puppet Play & Open House\nLearn how our play-based early childhood program lays the ideal foundation for later academic achievement! Families will have an opportunity to view our unique indoor and outdoor play spaces\, visit with teachers while children play and explore\, hear a story\, and see examples of student work. \nSaturday\, 12/7/24\n9:00-10:00 a.m.\n3605 East River Road\n  \nRegister today! Or RSVP to enrollment@tucsonwaldorf.org\n520.529-1032 x 100\n \n 
URL:https://tucsonwaldorf.org/event/playgarden-puppet-show-open-house/
LOCATION:Tucson Waldorf School\, 3605 East River Road\, Tucson\, 85718
ATTACH;FMTTYPE=image/png:https://tucsonwaldorf.org/wp-content/uploads/2024/11/playgarden-e1730913202859.png
END:VEVENT
END:VCALENDAR