BEGIN:VCALENDAR
VERSION:2.0
PRODID:-//Tucson Waldorf School - ECPv6.15.20//NONSGML v1.0//EN
CALSCALE:GREGORIAN
METHOD:PUBLISH
X-WR-CALNAME:Tucson Waldorf School
X-ORIGINAL-URL:https://tucsonwaldorf.org
X-WR-CALDESC:Events for Tucson Waldorf School
REFRESH-INTERVAL;VALUE=DURATION:PT1H
X-Robots-Tag:noindex
X-PUBLISHED-TTL:PT1H
BEGIN:VTIMEZONE
TZID:America/Phoenix
BEGIN:STANDARD
TZOFFSETFROM:-0700
TZOFFSETTO:-0700
TZNAME:MST
DTSTART:20240101T000000
END:STANDARD
END:VTIMEZONE
BEGIN:VEVENT
DTSTART;TZID=America/Phoenix:20250123T173000
DTEND;TZID=America/Phoenix:20250123T193000
DTSTAMP:20260419T100845
CREATED:20241212T222531Z
LAST-MODIFIED:20250117T212837Z
UID:6703-1737653400-1737660600@tucsonwaldorf.org
SUMMARY:Open House: January 23rd\, 2025 5:30-7:30 p.m
DESCRIPTION:Thursday January 23\, 2025 5:30-7:30 p.m. on the Tucson Waldorf School campus. \nEvent Details: \nJoin us for an evening of conversation and inspiration! TWS faculty\, parents\, and alum gather with prospective parents to share more about the Waldorf early childhood\, Grades 1-8 curriculum\, and the Tucson Waldorf School experience. \nRSVP Here or email enrollment@tucsonwaldorf.org \nSchedule of Events: \n5:30-5:40: Doors Open\, Event Arrival \n5:40-6:00: Playgarden Puppet Play \n6:00-6:30: TWS Subject Class Demo \n6:45-7:15: TWS Grades Demo: Story Telling Through the Grades with Mr. Doyle \n7:30: Event Ends \n**5:45-7:30 Visit our Grade 5 Classroom to connect with our faculty\, view main lesson books\, subject class examples and ask your questions! \n**5:45-7:00 Visit with our Finance team to learn more about tuition and scholarship opportunities
URL:https://tucsonwaldorf.org/event/open-house/
LOCATION:Tucson Waldorf School\, 3605 East River Road\, Tucson\, 85718
ATTACH;FMTTYPE=image/jpeg:https://tucsonwaldorf.org/wp-content/uploads/2024/12/Judy-Chemistry2-1.jpg
END:VEVENT
END:VCALENDAR