BEGIN:VCALENDAR
VERSION:2.0
PRODID:-//Tucson Waldorf School - ECPv6.15.20//NONSGML v1.0//EN
CALSCALE:GREGORIAN
METHOD:PUBLISH
X-ORIGINAL-URL:https://tucsonwaldorf.org
X-WR-CALDESC:Events for Tucson Waldorf School
REFRESH-INTERVAL;VALUE=DURATION:PT1H
X-Robots-Tag:noindex
X-PUBLISHED-TTL:PT1H
BEGIN:VTIMEZONE
TZID:America/Phoenix
BEGIN:STANDARD
TZOFFSETFROM:-0700
TZOFFSETTO:-0700
TZNAME:MST
DTSTART:20220101T000000
END:STANDARD
END:VTIMEZONE
BEGIN:VEVENT
DTSTART;TZID=America/Phoenix:20230322T180000
DTEND;TZID=America/Phoenix:20230322T193000
DTSTAMP:20260421T053635
CREATED:20230309T210529Z
LAST-MODIFIED:20230315T235420Z
UID:5775-1679508000-1679513400@tucsonwaldorf.org
SUMMARY:Helping Young People Navigate the Wilderness of Uncertainty: Cultivating Positivity and Resilience in the Post-Covid Era\, March 22 6:00pm
DESCRIPTION:Please join noted Waldorf educator\, Karl Johnson\, for an evening lecture at Tucson Waldorf School. \nWednesday\, March 22nd\, 6:00pm to 7:30 pm. \nFree and open to the public. \nKarl Johnson M.A. – Mountain Song Director of Pedagogy \n  \nHow do we ensure the whole and healthy development for our children in the post-Covid era? What capacities will they need for the future and how do we foster those capacities? How do we cultivate positivity and resilience in this age of uncertainty? \n Karl David Johnson M.A. has been an educator for over 40 years and has taught in the Waldorf movement since 1986. Currently the Mountain Song Community School Director of Pedagogy\, he has served as Pedagogical Director at two other schools\, and has also taught at the Early Childhood level\, the Elementary/Middle School level\, at the High School level\, and in Adult Education. \nAn experienced mentor and consultant\, Karl has mentored hundreds of teachers at dozens of schools and has trained teachers and conducted workshops in China\, Nepal\, New Zealand\, the Hawaiian Islands\, Canada\, Mexico\, and throughout the U.S. He currently serves as a Waldorf teacher trainer on the faculty of Gradalis Institute.
URL:https://tucsonwaldorf.org/event/helping-young-people-navigate-the-wilderness-of-uncertainty-cultivating-positivity-and-resilience-in-the-post-covid-era/
LOCATION:Tucson Waldorf School\, 3605 East River Road\, Tucson\, 85718
CATEGORIES:Lecture
ATTACH;FMTTYPE=image/png:https://tucsonwaldorf.org/wp-content/uploads/2022/03/image-2-e1678924453271.png
END:VEVENT
END:VCALENDAR