BEGIN:VCALENDAR
VERSION:2.0
PRODID:-//Tucson Waldorf School - ECPv6.15.20//NONSGML v1.0//EN
CALSCALE:GREGORIAN
METHOD:PUBLISH
X-WR-CALNAME:Tucson Waldorf School
X-ORIGINAL-URL:https://tucsonwaldorf.org
X-WR-CALDESC:Events for Tucson Waldorf School
REFRESH-INTERVAL;VALUE=DURATION:PT1H
X-Robots-Tag:noindex
X-PUBLISHED-TTL:PT1H
BEGIN:VTIMEZONE
TZID:America/Phoenix
BEGIN:STANDARD
TZOFFSETFROM:-0700
TZOFFSETTO:-0700
TZNAME:MST
DTSTART:20220101T000000
END:STANDARD
END:VTIMEZONE
BEGIN:VEVENT
DTSTART;TZID=America/Phoenix:20230401T180000
DTEND;TZID=America/Phoenix:20230401T220000
DTSTAMP:20260419T055617
CREATED:20200302T163325Z
LAST-MODIFIED:20240118T215735Z
UID:1906-1680372000-1680386400@tucsonwaldorf.org
SUMMARY:fresh! Goes Denim and Diamonds at Savoy Opera House
DESCRIPTION:The time has come for you to get your dancing shoes ready for a Boot Scootin’ Good Time……\n  \nTucson Waldorf School’s Annual Fundraiser \nGoes Denim and Diamonds \nas we celebrate our 30th Anniversary!!!\n\n \n\nto benefit Tucson Waldorf School\n\nSilent Auction\nLive Auction\n50/50 Raffle\nPaddle Raise\nUpscale Bar-B-Que Dinner\nLive Music from the one and only South Western Stars!!!!\nLine Dancing and more……\n\n\n***Ticket Sales will go Live\, Wednesday\, February 14th***\n\n\nDo you own a Business & have Items to donation to the silent or live auction?  We are now collecting items!!! Let TWS help promote your business to our wonderful community!\nDo you want to become a Sponsor for this amazing event? Act now to secure the premium  Sponsorship Tier!!! \n\n\n 
URL:https://tucsonwaldorf.org/event/fresh/
LOCATION:Tucson Waldorf School\, 3605 East River Road\, Tucson\, 85718
CATEGORIES:Public Fair
ATTACH;FMTTYPE=image/png:https://tucsonwaldorf.org/wp-content/uploads/2020/03/half-page-fresh.png
ORGANIZER;CN="TBA":MAILTO:director@tucsonwaldorf.org
END:VEVENT
END:VCALENDAR